BEGIN:VCALENDAR
VERSION:2.0
PRODID:SchoolNow
CALSCALE:GREGORIAN
BEGIN:VEVENT
UID:ef7bb8f4-2c4b-11f0-a81a-0ed81a1e35cf
DTSTAMP:20260425T144513Z
SUMMARY:KOL PTA Meeting
LOCATION:Kolmar School-1-KOL-Staff-Rm (100)
URL;VALUE=URI:https://www.d123.org/calendar/8092667/kol-pta-meeting
DTSTART:20260505T230000Z
DTEND:20260506T000000Z
END:VEVENT
END:VCALENDAR
