BEGIN:VCALENDAR
VERSION:2.0
PRODID:SchoolNow
CALSCALE:GREGORIAN
BEGIN:VEVENT
UID:2b5c3b8c-3b6f-11f0-85e0-0afff723b26d
DTSTAMP:20260425T144513Z
SUMMARY:Board of Education Meeting
LOCATION:Oak Lawn-Hometown Middle School\, 5345 99th St\, Oak Lawn\, IL 604
 53\, USA
URL;VALUE=URI:https://www.d123.org/calendar/8212370/board-of-education-meet
 ing
DTSTART:20260527T000000Z
DTEND:20260527T020000Z
END:VEVENT
END:VCALENDAR
