BEGIN:VCALENDAR
VERSION:2.0
PRODID:SchoolNow
CALSCALE:GREGORIAN
BEGIN:VEVENT
UID:a2a468e8-45fd-11f0-856e-0a58a9feac02
DTSTAMP:20260425T144513Z
SUMMARY:COV-Spring Concert
LOCATION:Covington School-1-COV-Gym (100)
URL;VALUE=URI:https://www.d123.org/calendar/8280670/cov-spring-concert
DTSTART:20260513T184500Z
DTEND:20260513T200000Z
END:VEVENT
END:VCALENDAR
