BEGIN:VCALENDAR
VERSION:2.0
PRODID:SchoolNow
CALSCALE:GREGORIAN
BEGIN:VEVENT
UID:5217bc32-a303-11f0-834b-0245ef416b81
DTSTAMP:20260425T144513Z
SUMMARY:KOL-4th Grade Instrument Fitting Day
LOCATION:Kolmar School-1-KOL-117 (100)
URL;VALUE=URI:https://www.d123.org/calendar/8700744/kol-4th-grade-instrumen
 t-fitting-day
DTSTART:20260512T140000Z
DTEND:20260512T193000Z
END:VEVENT
END:VCALENDAR
