BEGIN:VCALENDAR
VERSION:2.0
PRODID:SchoolNow
CALSCALE:GREGORIAN
BEGIN:VEVENT
UID:ea243f46-35c0-11f1-a662-0ebc95d200af
DTSTAMP:20260425T144513Z
SUMMARY:HMT - Dare Graduation
LOCATION:Hometown School-1-HMT-Gym (100)
URL;VALUE=URI:https://www.d123.org/calendar/8986625/hmt-dare-graduation
DTSTART:20260508T190000Z
DTEND:20260508T200000Z
END:VEVENT
END:VCALENDAR
