BEGIN:VCALENDAR
VERSION:2.0
PRODID:SchoolNow
CALSCALE:GREGORIAN
BEGIN:VEVENT
UID:be112fe8-3923-11f1-a1b9-0a58a9feac02
DTSTAMP:20260425T144513Z
SUMMARY:HMT - 2nd Gr. Play Wizard of Oz
LOCATION:Hometown School-1-HMT-Gym (100)
URL;VALUE=URI:https://www.d123.org/calendar/8996549/hmt-2nd-gr-play-wizard-
 of-oz
DTSTART:20260529T150000Z
DTEND:20260529T153000Z
END:VEVENT
END:VCALENDAR
