BEGIN:VCALENDAR
VERSION:2.0
PRODID:SchoolNow
CALSCALE:GREGORIAN
BEGIN:VEVENT
UID:be113538-3923-11f1-a8a2-0a58a9feac02
DTSTAMP:20260425T144513Z
SUMMARY:KOL - New Kindergarten Orientation
LOCATION:Kolmar School-1-KOL-MPR (100)
URL;VALUE=URI:https://www.d123.org/calendar/8996550/kol-new-kindergarten-or
 ientation
DTSTART:20260521T230000Z
DTEND:20260522T003000Z
END:VEVENT
END:VCALENDAR
