BEGIN:VCALENDAR
VERSION:2.0
PRODID:SchoolNow
CALSCALE:GREGORIAN
BEGIN:VEVENT
UID:977e0b9e-3b36-11f0-aeed-0afff8837bfd
DTSTAMP:20260425T063508Z
SUMMARY:Late Start (9:30AM)
URL;VALUE=URI:https://www.d123.org/schools/early-learning-center/calendar/8
 209299/late-start-9-30am
DTSTART;VALUE=DATE:20260506
DTEND;VALUE=DATE:20260507
END:VEVENT
END:VCALENDAR
