BEGIN:VCALENDAR
VERSION:2.0
PRODID:SchoolNow
CALSCALE:GREGORIAN
BEGIN:VEVENT
UID:deca21fe-797a-11f0-857a-0affdcd25397
DTSTAMP:20260423T055508Z
SUMMARY:ELC - NO PRESCHOOL STUDENT ATTENDANCE - Staff Institute Day
URL;VALUE=URI:https://www.d123.org/schools/early-learning-center/calendar/8
 509119/elc-no-preschool-student-attendance-staff-institute-day
DTSTART;VALUE=DATE:20260506
DTEND;VALUE=DATE:20260507
END:VEVENT
END:VCALENDAR
