BEGIN:VCALENDAR
VERSION:2.0
PRODID:SchoolNow
CALSCALE:GREGORIAN
BEGIN:VEVENT
UID:ef2df18a-38fe-11f1-ab22-023eb73d6f21
DTSTAMP:20260420T023547Z
SUMMARY:HMT - Mobile Dentist
LOCATION:Hometown School-1-HMT-MPR (100)
URL;VALUE=URI:https://www.d123.org/schools/hometown/calendar/8995990/hmt-mo
 bile-dentist
DTSTART:20260428T050000Z
DTEND:20260429T050000Z
END:VEVENT
END:VCALENDAR
