BEGIN:VCALENDAR
VERSION:2.0
PRODID:SchoolNow
CALSCALE:GREGORIAN
BEGIN:VEVENT
UID:939a878e-1f8c-11f0-a7ed-0affc12a3a95
DTSTAMP:20260425T124508Z
SUMMARY:KOL - PTA Morning with Misses
LOCATION:Kolmar School-1-KOL-Gym (100)
URL;VALUE=URI:https://www.d123.org/schools/kolmar/calendar/7983527/kol-pta-
 morning-with-misses
DTSTART:20260501T130000Z
DTEND:20260501T133000Z
END:VEVENT
END:VCALENDAR
