BEGIN:VCALENDAR
VERSION:2.0
PRODID:SchoolNow
CALSCALE:GREGORIAN
BEGIN:VEVENT
UID:5ff334a0-011b-11f1-8f0c-0a58a9feac02
DTSTAMP:20260420T050010Z
SUMMARY:OLHMS - Girls and Boys Soccer ( AWAY @ Conrady)
LOCATION:97th Street & Roberts Road  Hickory Hills \, IL 60457
URL;VALUE=URI:https://www.d123.org/schools/olhms/calendar/8848476/olhms-gir
 ls-and-boys-soccer-away-conrady
DTSTART:20260427T211500Z
DTEND:20260427T231500Z
END:VEVENT
END:VCALENDAR
