BEGIN:VCALENDAR
VERSION:2.0
PRODID:SchoolNow
CALSCALE:GREGORIAN
BEGIN:VEVENT
UID:60395430-011b-11f1-a27c-0a58a9feac02
DTSTAMP:20260420T050010Z
SUMMARY:District 123 Spring Band Concert
LOCATION:5345 w 99th street oak lawn il 60453
URL;VALUE=URI:https://www.d123.org/schools/olhms/calendar/8848666/district-
 123-spring-band-concert
DTSTART:20260509T000000Z
DTEND:20260509T013000Z
END:VEVENT
END:VCALENDAR
