BEGIN:VCALENDAR
VERSION:2.0
PRODID:SchoolNow
CALSCALE:GREGORIAN
BEGIN:VEVENT
UID:1e951aea-2291-11f1-959e-0a58a9feac02
DTSTAMP:20260420T050010Z
SUMMARY:Oak Lawn Baseball & Softball Picture Weekend 2026
URL;VALUE=URI:https://www.d123.org/schools/olhms/calendar/8926982/oak-lawn-
 baseball-softball-picture-weekend-2026
DTSTART:20260425T120000Z
DTEND:20260426T220000Z
END:VEVENT
END:VCALENDAR
