BEGIN:VCALENDAR
VERSION:2.0
PRODID:SchoolNow
CALSCALE:GREGORIAN
BEGIN:VEVENT
UID:aaec39ae-3f3f-11f1-af57-021b25f02a5f
DTSTAMP:20260424T001510Z
SUMMARY:District Art Show-Lys
LOCATION:5345 W 99th St\, Oak Lawn\, IL 60453\, USA
URL;VALUE=URI:https://www.d123.org/schools/olhms/calendar/9013965/district-
 art-show-lys
DTSTART:20260423T230000Z
DTEND:20260424T003000Z
END:VEVENT
END:VCALENDAR
