BEGIN:VCALENDAR
VERSION:2.0
PRODID:SchoolNow
CALSCALE:GREGORIAN
BEGIN:VEVENT
UID:8348ebf2-32a9-11f0-bae2-0238cbc372af
DTSTAMP:20260420T050008Z
SUMMARY:SWD Spring Concert
URL;VALUE=URI:https://www.d123.org/schools/sward/calendar/8148554/swd-sprin
 g-concert
DTSTART:20260512T183000Z
DTEND:20260512T200000Z
END:VEVENT
END:VCALENDAR
